Package: canceR Version: 1.40.0 Command: /Library/Frameworks/R.framework/Resources/bin/R CMD INSTALL canceR StartedAt: 2025-01-30 18:01:04 -0500 (Thu, 30 Jan 2025) EndedAt: 2025-01-30 18:02:32 -0500 (Thu, 30 Jan 2025) EllapsedTime: 87.9 seconds RetCode: 0 Status: OK