Package: canceR Version: 1.40.0 Command: /home/biocbuild/bbs-3.20-bioc/R/bin/R CMD build --keep-empty-dirs --no-resave-data --md5 canceR StartedAt: 2025-01-30 16:32:56 -0500 (Thu, 30 Jan 2025) EndedAt: 2025-01-30 16:34:29 -0500 (Thu, 30 Jan 2025) EllapsedTime: 93.1 seconds RetCode: 0 Status: OK PackageFile: canceR_1.40.0.tar.gz PackageFileSize: 31.46 MiB