Package: canceR Version: 1.40.0 Command: rm -rf canceR.buildbin-libdir && mkdir canceR.buildbin-libdir && F:\biocbuild\bbs-3.20-bioc\R\bin\R.exe CMD INSTALL --build --library=canceR.buildbin-libdir canceR_1.40.0.tar.gz StartedAt: 2025-01-31 08:17:57 -0500 (Fri, 31 Jan 2025) EndedAt: 2025-01-31 08:19:45 -0500 (Fri, 31 Jan 2025) EllapsedTime: 107.9 seconds RetCode: 0 Status: OK PackageFile: canceR_1.40.0.zip PackageFileSize: 14.91 MiB