Package: canceR Version: 1.40.0 Command: chmod a+r canceR -R && F:\biocbuild\bbs-3.20-bioc\R\bin\R.exe CMD build --keep-empty-dirs --no-resave-data canceR StartedAt: 2025-01-30 17:43:47 -0500 (Thu, 30 Jan 2025) EndedAt: 2025-01-30 17:45:33 -0500 (Thu, 30 Jan 2025) EllapsedTime: 106.0 seconds RetCode: 0 Status: OK PackageFile: canceR_1.40.0.tar.gz PackageFileSize: 31.46 MiB