Package: canceR Version: 1.40.0 Command: F:\biocbuild\bbs-3.20-bioc\R\bin\R.exe CMD INSTALL canceR StartedAt: 2025-01-30 16:50:45 -0500 (Thu, 30 Jan 2025) EndedAt: 2025-01-30 16:52:26 -0500 (Thu, 30 Jan 2025) EllapsedTime: 100.4 seconds RetCode: 0 Status: OK