Package: canceR Version: 1.40.0 Command: /home/biocbuild/R/R/bin/R CMD build --keep-empty-dirs --no-resave-data canceR StartedAt: 2025-01-30 22:20:33 -0000 (Thu, 30 Jan 2025) EndedAt: 2025-01-30 22:22:19 -0000 (Thu, 30 Jan 2025) EllapsedTime: 106.0 seconds RetCode: 0 Status: OK PackageFile: canceR_1.40.0.tar.gz PackageFileSize: 31.48 MiB