Package: canceR Version: 1.40.0 Command: /home/biocbuild/R/R/bin/R CMD INSTALL canceR StartedAt: 2025-01-30 21:02:42 -0000 (Thu, 30 Jan 2025) EndedAt: 2025-01-30 21:04:15 -0000 (Thu, 30 Jan 2025) EllapsedTime: 92.7 seconds RetCode: 0 Status: OK