Package: cancerclass Version: 1.50.0 Maintainer: Daniel Kosztyla MaintainerEmail: danielkossi at hotmail.com git_url: https://git.bioconductor.org/packages/cancerclass git_branch: RELEASE_3_20 git_last_commit: 2ac0a44 git_last_commit_date: 2024-10-29 09:41:15 -0500 (Tue, 29 Oct 2024)