Package: cancerclass Version: 1.50.0 Command: /Library/Frameworks/R.framework/Resources/bin/R CMD INSTALL cancerclass StartedAt: 2025-02-03 15:15:06 -0500 (Mon, 03 Feb 2025) EndedAt: 2025-02-03 15:15:12 -0500 (Mon, 03 Feb 2025) EllapsedTime: 6.9 seconds RetCode: 0 Status: OK