Package: cancerclass Version: 1.50.0 Command: /home/biocbuild/bbs-3.20-bioc/R/bin/R CMD build --keep-empty-dirs --no-resave-data --md5 cancerclass StartedAt: 2025-01-30 16:33:04 -0500 (Thu, 30 Jan 2025) EndedAt: 2025-01-30 16:33:27 -0500 (Thu, 30 Jan 2025) EllapsedTime: 23.0 seconds RetCode: 0 Status: OK PackageFile: cancerclass_1.50.0.tar.gz PackageFileSize: 1.526 MiB