Package: cancerclass Version: 1.50.0 Command: /home/biocbuild/bbs-3.20-bioc/R/bin/R CMD INSTALL cancerclass StartedAt: 2025-01-30 15:06:34 -0500 (Thu, 30 Jan 2025) EndedAt: 2025-01-30 15:06:42 -0500 (Thu, 30 Jan 2025) EllapsedTime: 8.1 seconds RetCode: 0 Status: OK