Package: cancerclass Version: 1.50.0 Command: F:\biocbuild\bbs-3.20-bioc\R\bin\R.exe CMD check --no-multiarch --install=check:cancerclass.install-out.txt --library=F:\biocbuild\bbs-3.20-bioc\R\library --no-vignettes --timings cancerclass_1.50.0.tar.gz StartedAt: 2025-01-31 00:10:40 -0500 (Fri, 31 Jan 2025) EndedAt: 2025-01-31 00:12:03 -0500 (Fri, 31 Jan 2025) EllapsedTime: 82.8 seconds RetCode: 0 Status: OK CheckDir: cancerclass.Rcheck Warnings: 0