Package: cancerclass Version: 1.50.0 Command: /home/biocbuild/R/R/bin/R CMD check --install=check:cancerclass.install-out.txt --library=/home/biocbuild/R/R/site-library --no-vignettes --timings cancerclass_1.50.0.tar.gz StartedAt: 2025-01-31 04:37:09 -0000 (Fri, 31 Jan 2025) EndedAt: 2025-01-31 04:38:08 -0000 (Fri, 31 Jan 2025) EllapsedTime: 59.0 seconds RetCode: 0 Status: OK CheckDir: cancerclass.Rcheck Warnings: 0