Package: cardelino Version: 1.8.0 Command: /Library/Frameworks/R.framework/Resources/bin/R CMD build --keep-empty-dirs --no-resave-data cardelino StartedAt: 2025-02-03 20:00:14 -0500 (Mon, 03 Feb 2025) EndedAt: 2025-02-03 20:01:55 -0500 (Mon, 03 Feb 2025) EllapsedTime: 100.7 seconds RetCode: 0 Status: OK PackageFile: cardelino_1.8.0.tar.gz PackageFileSize: 3.705 MiB