Package: cardelino Version: 1.8.0 Command: rm -rf cardelino.buildbin-libdir && mkdir cardelino.buildbin-libdir && /Users/biocbuild/BBS/utils/build-universal.sh cardelino_1.8.0.tar.gz /Library/Frameworks/R.framework/Resources/bin/R cardelino.buildbin-libdir StartedAt: 2025-02-04 12:35:51 -0500 (Tue, 04 Feb 2025) EndedAt: 2025-02-04 12:37:29 -0500 (Tue, 04 Feb 2025) EllapsedTime: 97.4 seconds RetCode: 0 Status: OK PackageFile: cardelino_1.8.0.tgz PackageFileSize: 3.838 MiB