Package: cardelino Version: 1.8.0 Command: /home/biocbuild/bbs-3.20-bioc/R/bin/R CMD build --keep-empty-dirs --no-resave-data --md5 cardelino StartedAt: 2025-02-03 16:42:20 -0500 (Mon, 03 Feb 2025) EndedAt: 2025-02-03 16:43:41 -0500 (Mon, 03 Feb 2025) EllapsedTime: 81.1 seconds RetCode: 0 Status: OK PackageFile: cardelino_1.8.0.tar.gz PackageFileSize: 3.649 MiB