Package: cardelino Version: 1.8.0 Command: /home/biocbuild/R/R/bin/R CMD build --keep-empty-dirs --no-resave-data cardelino StartedAt: 2025-02-03 22:22:48 -0000 (Mon, 03 Feb 2025) EndedAt: 2025-02-03 22:24:31 -0000 (Mon, 03 Feb 2025) EllapsedTime: 103.0 seconds RetCode: 0 Status: OK PackageFile: cardelino_1.8.0.tar.gz PackageFileSize: 3.212 MiB