Package: cardelino Version: 1.8.0 Command: /home/biocbuild/R/R/bin/R CMD check --install=check:cardelino.install-out.txt --library=/home/biocbuild/R/R/site-library --no-vignettes --timings cardelino_1.8.0.tar.gz StartedAt: 2025-02-04 05:19:27 -0000 (Tue, 04 Feb 2025) EndedAt: 2025-02-04 05:28:06 -0000 (Tue, 04 Feb 2025) EllapsedTime: 518.4 seconds RetCode: 0 Status: OK CheckDir: cardelino.Rcheck Warnings: 0