Package: cbpManager Version: 1.14.0 Command: /Library/Frameworks/R.framework/Resources/bin/R CMD check --install=check:cbpManager.install-out.txt --library=/Library/Frameworks/R.framework/Resources/library --no-vignettes --timings cbpManager_1.14.0.tar.gz StartedAt: 2025-02-11 13:46:46 -0500 (Tue, 11 Feb 2025) EndedAt: 2025-02-11 13:48:06 -0500 (Tue, 11 Feb 2025) EllapsedTime: 80.1 seconds RetCode: 0 Status: WARNINGS CheckDir: cbpManager.Rcheck Warnings: 1