Package: cbpManager Version: 1.14.0 Command: /Library/Frameworks/R.framework/Resources/bin/R CMD INSTALL cbpManager StartedAt: 2025-02-10 17:00:12 -0500 (Mon, 10 Feb 2025) EndedAt: 2025-02-10 17:00:24 -0500 (Mon, 10 Feb 2025) EllapsedTime: 12.0 seconds RetCode: 0 Status: OK