Package: cbpManager Version: 1.14.0 Command: /Library/Frameworks/R.framework/Resources/bin/R CMD build --keep-empty-dirs --no-resave-data cbpManager StartedAt: 2025-02-10 17:34:25 -0500 (Mon, 10 Feb 2025) EndedAt: 2025-02-10 17:35:01 -0500 (Mon, 10 Feb 2025) EllapsedTime: 35.7 seconds RetCode: 0 Status: OK PackageFile: cbpManager_1.14.0.tar.gz PackageFileSize: 4.639 MiB