Package: ccImpute Version: 1.8.0 Command: rm -rf ccImpute.buildbin-libdir && mkdir ccImpute.buildbin-libdir && /Users/biocbuild/BBS/utils/build-universal.sh ccImpute_1.8.0.tar.gz /Library/Frameworks/R.framework/Resources/bin/R ccImpute.buildbin-libdir StartedAt: 2025-02-11 12:50:43 -0500 (Tue, 11 Feb 2025) EndedAt: 2025-02-11 12:52:14 -0500 (Tue, 11 Feb 2025) EllapsedTime: 91.0 seconds RetCode: 0 Status: OK PackageFile: ccImpute_1.8.0.tgz PackageFileSize: 1.067 MiB