Package: ccImpute Version: 1.8.0 Command: /home/biocbuild/bbs-3.20-bioc/R/bin/R CMD check --install=check:ccImpute.install-out.txt --library=/home/biocbuild/bbs-3.20-bioc/R/site-library --timings ccImpute_1.8.0.tar.gz StartedAt: 2025-02-03 20:45:50 -0500 (Mon, 03 Feb 2025) EndedAt: 2025-02-03 20:51:46 -0500 (Mon, 03 Feb 2025) EllapsedTime: 355.4 seconds RetCode: 0 Status: OK CheckDir: ccImpute.Rcheck Warnings: 0