Package: ccImpute Version: 1.8.0 Command: F:\biocbuild\bbs-3.20-bioc\R\bin\R.exe CMD check --no-multiarch --install=check:ccImpute.install-out.txt --library=F:\biocbuild\bbs-3.20-bioc\R\library --no-vignettes --timings ccImpute_1.8.0.tar.gz StartedAt: 2025-02-04 00:02:52 -0500 (Tue, 04 Feb 2025) EndedAt: 2025-02-04 00:07:43 -0500 (Tue, 04 Feb 2025) EllapsedTime: 291.1 seconds RetCode: 0 Status: OK CheckDir: ccImpute.Rcheck Warnings: 0