Package: ccImpute Version: 1.8.0 Command: /home/biocbuild/R/R/bin/R CMD build --keep-empty-dirs --no-resave-data ccImpute StartedAt: 2025-02-03 22:25:25 -0000 (Mon, 03 Feb 2025) EndedAt: 2025-02-03 22:28:53 -0000 (Mon, 03 Feb 2025) EllapsedTime: 208.1 seconds RetCode: 0 Status: OK PackageFile: ccImpute_1.8.0.tar.gz PackageFileSize: 1011 KiB