Package: ccImpute Version: 1.8.0 Command: /home/biocbuild/R/R/bin/R CMD check --install=check:ccImpute.install-out.txt --library=/home/biocbuild/R/R/site-library --no-vignettes --timings ccImpute_1.8.0.tar.gz StartedAt: 2025-02-04 05:25:04 -0000 (Tue, 04 Feb 2025) EndedAt: 2025-02-04 05:28:35 -0000 (Tue, 04 Feb 2025) EllapsedTime: 211.2 seconds RetCode: 0 Status: WARNINGS CheckDir: ccImpute.Rcheck Warnings: 1