Package: ccImpute Version: 1.8.0 Command: /home/biocbuild/R/R/bin/R CMD INSTALL ccImpute StartedAt: 2025-02-03 20:45:45 -0000 (Mon, 03 Feb 2025) EndedAt: 2025-02-03 20:46:40 -0000 (Mon, 03 Feb 2025) EllapsedTime: 55.3 seconds RetCode: 0 Status: OK