Package: ccfindR Version: 1.26.0 Command: /Library/Frameworks/R.framework/Resources/bin/R CMD build --keep-empty-dirs --no-resave-data ccfindR StartedAt: 2025-02-10 20:17:14 -0500 (Mon, 10 Feb 2025) EndedAt: 2025-02-10 20:17:15 -0500 (Mon, 10 Feb 2025) EllapsedTime: 1.2 seconds RetCode: 1 Status: ERROR PackageFile: None PackageFileSize: NA