Package: ccfindR Version: 1.26.0 Command: chmod a+r ccfindR -R && F:\biocbuild\bbs-3.20-bioc\R\bin\R.exe CMD build --keep-empty-dirs --no-resave-data ccfindR StartedAt: 2025-02-03 17:58:27 -0500 (Mon, 03 Feb 2025) EndedAt: 2025-02-03 18:03:48 -0500 (Mon, 03 Feb 2025) EllapsedTime: 320.6 seconds RetCode: 0 Status: OK PackageFile: ccfindR_1.26.0.tar.gz PackageFileSize: 758.6 KiB