Package: ccfindR Version: 1.26.0 Command: F:\biocbuild\bbs-3.20-bioc\R\bin\R.exe CMD check --no-multiarch --install=check:ccfindR.install-out.txt --library=F:\biocbuild\bbs-3.20-bioc\R\library --no-vignettes --timings ccfindR_1.26.0.tar.gz StartedAt: 2025-02-10 23:58:04 -0500 (Mon, 10 Feb 2025) EndedAt: 2025-02-11 00:03:06 -0500 (Tue, 11 Feb 2025) EllapsedTime: 302.3 seconds RetCode: 0 Status: OK CheckDir: ccfindR.Rcheck Warnings: 0