Package: ccmap Version: 1.32.0 Command: /Library/Frameworks/R.framework/Resources/bin/R CMD check --install=check:ccmap.install-out.txt --library=/Library/Frameworks/R.framework/Resources/library --no-vignettes --timings ccmap_1.32.0.tar.gz StartedAt: 2025-02-04 14:04:07 -0500 (Tue, 04 Feb 2025) EndedAt: 2025-02-04 14:07:52 -0500 (Tue, 04 Feb 2025) EllapsedTime: 225.0 seconds RetCode: 0 Status: WARNINGS CheckDir: ccmap.Rcheck Warnings: 1