Package: ccmap Version: 1.32.0 Command: /home/biocbuild/bbs-3.20-bioc/R/bin/R CMD build --keep-empty-dirs --no-resave-data --md5 ccmap StartedAt: 2025-02-03 16:43:49 -0500 (Mon, 03 Feb 2025) EndedAt: 2025-02-03 16:45:37 -0500 (Mon, 03 Feb 2025) EllapsedTime: 108.1 seconds RetCode: 0 Status: OK PackageFile: ccmap_1.32.0.tar.gz PackageFileSize: 444.9 KiB