Package: ccmap Version: 1.32.0 Command: /home/biocbuild/bbs-3.20-bioc/R/bin/R CMD INSTALL ccmap StartedAt: 2025-02-10 15:23:23 -0500 (Mon, 10 Feb 2025) EndedAt: 2025-02-10 15:23:38 -0500 (Mon, 10 Feb 2025) EllapsedTime: 14.7 seconds RetCode: 0 Status: OK