Package: ccrepe Version: 1.42.0 Command: /Library/Frameworks/R.framework/Resources/bin/R CMD check --install=check:ccrepe.install-out.txt --library=/Library/Frameworks/R.framework/Resources/library --no-vignettes --timings ccrepe_1.42.0.tar.gz StartedAt: 2025-02-04 00:55:41 -0500 (Tue, 04 Feb 2025) EndedAt: 2025-02-04 00:56:32 -0500 (Tue, 04 Feb 2025) EllapsedTime: 51.7 seconds RetCode: 0 Status: OK CheckDir: ccrepe.Rcheck Warnings: 0