Package: ccrepe Version: 1.42.0 Command: rm -rf ccrepe.buildbin-libdir && mkdir ccrepe.buildbin-libdir && F:\biocbuild\bbs-3.20-bioc\R\bin\R.exe CMD INSTALL --build --library=ccrepe.buildbin-libdir ccrepe_1.42.0.tar.gz StartedAt: 2025-02-11 08:06:39 -0500 (Tue, 11 Feb 2025) EndedAt: 2025-02-11 08:06:46 -0500 (Tue, 11 Feb 2025) EllapsedTime: 7.3 seconds RetCode: 0 Status: OK PackageFile: ccrepe_1.42.0.zip PackageFileSize: 365.6 KiB