Package: celaref Version: 1.24.0 Command: /Library/Frameworks/R.framework/Resources/bin/R CMD build --keep-empty-dirs --no-resave-data celaref StartedAt: 2025-02-03 20:09:17 -0500 (Mon, 03 Feb 2025) EndedAt: 2025-02-03 20:12:41 -0500 (Mon, 03 Feb 2025) EllapsedTime: 204.6 seconds RetCode: 0 Status: OK PackageFile: celaref_1.24.0.tar.gz PackageFileSize: 3.073 MiB