Package: celaref Version: 1.24.0 Command: /Library/Frameworks/R.framework/Resources/bin/R CMD check --install=check:celaref.install-out.txt --library=/Library/Frameworks/R.framework/Resources/library --no-vignettes --timings celaref_1.24.0.tar.gz StartedAt: 2025-02-04 14:06:56 -0500 (Tue, 04 Feb 2025) EndedAt: 2025-02-04 14:11:38 -0500 (Tue, 04 Feb 2025) EllapsedTime: 281.8 seconds RetCode: 0 Status: OK CheckDir: celaref.Rcheck Warnings: 0