Package: celaref Version: 1.24.0 Command: rm -rf celaref.buildbin-libdir && mkdir celaref.buildbin-libdir && /Users/biocbuild/BBS/utils/build-universal.sh celaref_1.24.0.tar.gz /Library/Frameworks/R.framework/Resources/bin/R celaref.buildbin-libdir StartedAt: 2024-11-20 04:18:00 -0500 (Wed, 20 Nov 2024) EndedAt: 2024-11-20 04:18:41 -0500 (Wed, 20 Nov 2024) EllapsedTime: 41.3 seconds RetCode: 0 Status: OK PackageFile: celaref_1.24.0.tgz PackageFileSize: 3.096 MiB