Package: celaref Version: 1.24.0 Command: /home/biocbuild/R/R/bin/R CMD INSTALL celaref StartedAt: 2025-02-10 20:21:25 -0000 (Mon, 10 Feb 2025) EndedAt: 2025-02-10 20:21:57 -0000 (Mon, 10 Feb 2025) EllapsedTime: 32.8 seconds RetCode: 0 Status: OK