Package: cellbaseR Version: 1.30.0 Command: rm -rf cellbaseR.buildbin-libdir && mkdir cellbaseR.buildbin-libdir && /Users/biocbuild/BBS/utils/build-universal.sh cellbaseR_1.30.0.tar.gz /Library/Frameworks/R.framework/Resources/bin/R cellbaseR.buildbin-libdir StartedAt: 2025-02-04 12:37:12 -0500 (Tue, 04 Feb 2025) EndedAt: 2025-02-04 12:37:47 -0500 (Tue, 04 Feb 2025) EllapsedTime: 35.4 seconds RetCode: 0 Status: OK PackageFile: cellbaseR_1.30.0.tgz PackageFileSize: 747.3 KiB