Package: cellbaseR Version: 1.30.0 Command: /Library/Frameworks/R.framework/Resources/bin/R CMD check --install=check:cellbaseR.install-out.txt --library=/Library/Frameworks/R.framework/Resources/library --no-vignettes --timings cellbaseR_1.30.0.tar.gz StartedAt: 2025-02-04 00:56:38 -0500 (Tue, 04 Feb 2025) EndedAt: 2025-02-04 01:00:26 -0500 (Tue, 04 Feb 2025) EllapsedTime: 228.5 seconds RetCode: 0 Status: OK CheckDir: cellbaseR.Rcheck Warnings: 0