Package: cellbaseR Version: 1.30.0 Command: /Library/Frameworks/R.framework/Resources/bin/R CMD INSTALL cellbaseR StartedAt: 2025-02-10 15:27:20 -0500 (Mon, 10 Feb 2025) EndedAt: 2025-02-10 15:27:53 -0500 (Mon, 10 Feb 2025) EllapsedTime: 32.2 seconds RetCode: 0 Status: OK