Package: cellity Version: 1.34.0 Command: /Library/Frameworks/R.framework/Resources/bin/R CMD check --install=check:cellity.install-out.txt --library=/Library/Frameworks/R.framework/Resources/library --no-vignettes --timings cellity_1.34.0.tar.gz StartedAt: 2024-11-19 20:21:27 -0500 (Tue, 19 Nov 2024) EndedAt: 2024-11-19 20:27:17 -0500 (Tue, 19 Nov 2024) EllapsedTime: 350.1 seconds RetCode: 0 Status: OK CheckDir: cellity.Rcheck Warnings: 0