Package: cellity Version: 1.34.0 Command: /home/biocbuild/R/R/bin/R CMD INSTALL cellity StartedAt: 2025-02-10 20:28:35 -0000 (Mon, 10 Feb 2025) EndedAt: 2025-02-10 20:28:57 -0000 (Mon, 10 Feb 2025) EllapsedTime: 22.7 seconds RetCode: 0 Status: OK