Package: cellmigRation Version: 1.14.0 Command: /Library/Frameworks/R.framework/Resources/bin/R CMD INSTALL cellmigRation StartedAt: 2025-02-03 17:38:13 -0500 (Mon, 03 Feb 2025) EndedAt: 2025-02-03 17:38:31 -0500 (Mon, 03 Feb 2025) EllapsedTime: 17.4 seconds RetCode: 0 Status: OK