Package: cellmigRation Version: 1.14.0 Command: rm -rf cellmigRation.buildbin-libdir && mkdir cellmigRation.buildbin-libdir && /Users/biocbuild/BBS/utils/build-universal.sh cellmigRation_1.14.0.tar.gz /Library/Frameworks/R.framework/Resources/bin/R cellmigRation.buildbin-libdir StartedAt: 2025-01-31 12:29:20 -0500 (Fri, 31 Jan 2025) EndedAt: 2025-01-31 12:30:00 -0500 (Fri, 31 Jan 2025) EllapsedTime: 39.9 seconds RetCode: 0 Status: OK PackageFile: cellmigRation_1.14.0.tgz PackageFileSize: 1.989 MiB