Package: cellmigRation Version: 1.14.0 Command: /Library/Frameworks/R.framework/Resources/bin/R CMD build --keep-empty-dirs --no-resave-data cellmigRation StartedAt: 2025-02-03 17:42:31 -0500 (Mon, 03 Feb 2025) EndedAt: 2025-02-03 17:49:37 -0500 (Mon, 03 Feb 2025) EllapsedTime: 426.4 seconds RetCode: 0 Status: OK PackageFile: cellmigRation_1.14.0.tar.gz PackageFileSize: 1.364 MiB