Package: cellmigRation Version: 1.14.0 Command: /Library/Frameworks/R.framework/Resources/bin/R CMD check --install=check:cellmigRation.install-out.txt --library=/Library/Frameworks/R.framework/Resources/library --no-vignettes --timings cellmigRation_1.14.0.tar.gz StartedAt: 2025-02-04 00:58:08 -0500 (Tue, 04 Feb 2025) EndedAt: 2025-02-04 01:03:18 -0500 (Tue, 04 Feb 2025) EllapsedTime: 309.9 seconds RetCode: 0 Status: OK CheckDir: cellmigRation.Rcheck Warnings: 0