Package: cellmigRation Version: 1.14.0 Command: chmod a+r cellmigRation -R && F:\biocbuild\bbs-3.20-bioc\R\bin\R.exe CMD build --keep-empty-dirs --no-resave-data cellmigRation StartedAt: 2025-02-03 18:01:11 -0500 (Mon, 03 Feb 2025) EndedAt: 2025-02-03 18:04:37 -0500 (Mon, 03 Feb 2025) EllapsedTime: 205.6 seconds RetCode: 0 Status: OK PackageFile: cellmigRation_1.14.0.tar.gz PackageFileSize: 928.2 KiB