Package: cellmigRation Version: 1.14.0 Command: F:\biocbuild\bbs-3.20-bioc\R\bin\R.exe CMD check --no-multiarch --install=check:cellmigRation.install-out.txt --library=F:\biocbuild\bbs-3.20-bioc\R\library --no-vignettes --timings cellmigRation_1.14.0.tar.gz StartedAt: 2025-01-31 00:20:57 -0500 (Fri, 31 Jan 2025) EndedAt: 2025-01-31 00:23:39 -0500 (Fri, 31 Jan 2025) EllapsedTime: 161.8 seconds RetCode: 0 Status: OK CheckDir: cellmigRation.Rcheck Warnings: 0